BEGIN:VCALENDAR
VERSION:2.0
PRODID:-//The American Legion Mountaineer Boys State - ECPv6.15.20//NONSGML v1.0//EN
CALSCALE:GREGORIAN
METHOD:PUBLISH
X-WR-CALNAME:The American Legion Mountaineer Boys State
X-ORIGINAL-URL:https://www.mountaineerboysstate.org
X-WR-CALDESC:Events for The American Legion Mountaineer Boys State
REFRESH-INTERVAL;VALUE=DURATION:PT1H
X-Robots-Tag:noindex
X-PUBLISHED-TTL:PT1H
BEGIN:VTIMEZONE
TZID:America/New_York
BEGIN:DAYLIGHT
TZOFFSETFROM:-0500
TZOFFSETTO:-0400
TZNAME:EDT
DTSTART:20220313T070000
END:DAYLIGHT
BEGIN:STANDARD
TZOFFSETFROM:-0400
TZOFFSETTO:-0500
TZNAME:EST
DTSTART:20221106T060000
END:STANDARD
BEGIN:DAYLIGHT
TZOFFSETFROM:-0500
TZOFFSETTO:-0400
TZNAME:EDT
DTSTART:20230312T070000
END:DAYLIGHT
BEGIN:STANDARD
TZOFFSETFROM:-0400
TZOFFSETTO:-0500
TZNAME:EST
DTSTART:20231105T060000
END:STANDARD
BEGIN:DAYLIGHT
TZOFFSETFROM:-0500
TZOFFSETTO:-0400
TZNAME:EDT
DTSTART:20240310T070000
END:DAYLIGHT
BEGIN:STANDARD
TZOFFSETFROM:-0400
TZOFFSETTO:-0500
TZNAME:EST
DTSTART:20241103T060000
END:STANDARD
END:VTIMEZONE
BEGIN:VEVENT
DTSTART;TZID=America/New_York:20230510T193000
DTEND;TZID=America/New_York:20230510T203000
DTSTAMP:20260420T085952
CREATED:20230425T003840Z
LAST-MODIFIED:20230425T011133Z
UID:3798-1683747000-1683750600@www.mountaineerboysstate.org
SUMMARY:ALMBS Orientation Session
DESCRIPTION:Content is protected.
URL:https://www.mountaineerboysstate.org/event/almbs-orientation-session-8/
LOCATION:WVU Jackson’s Mill\, 160 WVU Jackson Mill\, Weston\, WV\, 26452\, United States
CATEGORIES:ALMBS,Orientations
ORGANIZER;CN="The American Legion Department of West Virginia":MAILTO:almbs@wvboysstate.org
END:VEVENT
BEGIN:VEVENT
DTSTART;TZID=America/New_York:20230516T193000
DTEND;TZID=America/New_York:20230516T203000
DTSTAMP:20260420T085952
CREATED:20230425T013039Z
LAST-MODIFIED:20230425T013412Z
UID:3804-1684265400-1684269000@www.mountaineerboysstate.org
SUMMARY:ALMBS Orientation Session
DESCRIPTION:Content is protected.
URL:https://www.mountaineerboysstate.org/event/almbs-orientation-session-9/
LOCATION:WVU Jackson’s Mill\, 160 WVU Jackson Mill\, Weston\, WV\, 26452\, United States
CATEGORIES:ALMBS,Orientations
ORGANIZER;CN="The American Legion Department of West Virginia":MAILTO:almbs@wvboysstate.org
END:VEVENT
BEGIN:VEVENT
DTSTART;TZID=America/New_York:20230518T193000
DTEND;TZID=America/New_York:20230518T203000
DTSTAMP:20260420T085952
CREATED:20230425T094234Z
LAST-MODIFIED:20230425T094543Z
UID:3808-1684438200-1684441800@www.mountaineerboysstate.org
SUMMARY:ALMBS Orientation Session
DESCRIPTION:Content is protected.
URL:https://www.mountaineerboysstate.org/event/almbs-orientation-session-10/
LOCATION:WVU Jackson’s Mill\, 160 WVU Jackson Mill\, Weston\, WV\, 26452\, United States
CATEGORIES:ALMBS,Orientations
ORGANIZER;CN="The American Legion Department of West Virginia":MAILTO:almbs@wvboysstate.org
END:VEVENT
BEGIN:VEVENT
DTSTART;TZID=America/New_York:20230522T193000
DTEND;TZID=America/New_York:20230522T203000
DTSTAMP:20260420T085952
CREATED:20230425T094700Z
LAST-MODIFIED:20230425T094939Z
UID:3811-1684783800-1684787400@www.mountaineerboysstate.org
SUMMARY:ALMBS Orientation Session
DESCRIPTION:Content is protected.
URL:https://www.mountaineerboysstate.org/event/almbs-orientation-session-11/
LOCATION:WVU Jackson’s Mill\, 160 WVU Jackson Mill\, Weston\, WV\, 26452\, United States
CATEGORIES:ALMBS,Orientations
ORGANIZER;CN="The American Legion Department of West Virginia":MAILTO:almbs@wvboysstate.org
END:VEVENT
BEGIN:VEVENT
DTSTART;TZID=America/New_York:20230526T193000
DTEND;TZID=America/New_York:20230526T203000
DTSTAMP:20260420T085952
CREATED:20230425T095122Z
LAST-MODIFIED:20230425T095403Z
UID:3814-1685129400-1685133000@www.mountaineerboysstate.org
SUMMARY:ALMBS Orientation Session
DESCRIPTION:Content is protected.
URL:https://www.mountaineerboysstate.org/event/almbs-orientation-session-12/
LOCATION:WVU Jackson’s Mill\, 160 WVU Jackson Mill\, Weston\, WV\, 26452\, United States
CATEGORIES:ALMBS,Orientations
ORGANIZER;CN="The American Legion Department of West Virginia":MAILTO:almbs@wvboysstate.org
END:VEVENT
BEGIN:VEVENT
DTSTART;TZID=America/New_York:20230528T193000
DTEND;TZID=America/New_York:20230528T203000
DTSTAMP:20260420T085952
CREATED:20230425T095509Z
LAST-MODIFIED:20230425T095728Z
UID:3817-1685302200-1685305800@www.mountaineerboysstate.org
SUMMARY:ALMBS Orientation Session
DESCRIPTION:Content is protected.
URL:https://www.mountaineerboysstate.org/event/almbs-orientation-session-13/
LOCATION:WVU Jackson’s Mill\, 160 WVU Jackson Mill\, Weston\, WV\, 26452\, United States
CATEGORIES:ALMBS,Orientations
ORGANIZER;CN="The American Legion Department of West Virginia":MAILTO:almbs@wvboysstate.org
END:VEVENT
BEGIN:VEVENT
DTSTART;TZID=America/New_York:20230531T193000
DTEND;TZID=America/New_York:20230531T203000
DTSTAMP:20260420T085952
CREATED:20230425T095901Z
LAST-MODIFIED:20230425T100124Z
UID:3820-1685561400-1685565000@www.mountaineerboysstate.org
SUMMARY:ALMBS Orientation Session
DESCRIPTION:Content is protected.
URL:https://www.mountaineerboysstate.org/event/almbs-orientation-session-14/
LOCATION:WVU Jackson’s Mill\, 160 WVU Jackson Mill\, Weston\, WV\, 26452\, United States
CATEGORIES:ALMBS,Orientations
ORGANIZER;CN="The American Legion Department of West Virginia":MAILTO:almbs@wvboysstate.org
END:VEVENT
END:VCALENDAR