BEGIN:VCALENDAR
VERSION:2.0
PRODID:-//The American Legion Mountaineer Boys State - ECPv6.15.20//NONSGML v1.0//EN
CALSCALE:GREGORIAN
METHOD:PUBLISH
X-ORIGINAL-URL:https://www.mountaineerboysstate.org
X-WR-CALDESC:Events for The American Legion Mountaineer Boys State
REFRESH-INTERVAL;VALUE=DURATION:PT1H
X-Robots-Tag:noindex
X-PUBLISHED-TTL:PT1H
BEGIN:VTIMEZONE
TZID:America/New_York
BEGIN:DAYLIGHT
TZOFFSETFROM:-0500
TZOFFSETTO:-0400
TZNAME:EDT
DTSTART:20220313T070000
END:DAYLIGHT
BEGIN:STANDARD
TZOFFSETFROM:-0400
TZOFFSETTO:-0500
TZNAME:EST
DTSTART:20221106T060000
END:STANDARD
BEGIN:DAYLIGHT
TZOFFSETFROM:-0500
TZOFFSETTO:-0400
TZNAME:EDT
DTSTART:20230312T070000
END:DAYLIGHT
BEGIN:STANDARD
TZOFFSETFROM:-0400
TZOFFSETTO:-0500
TZNAME:EST
DTSTART:20231105T060000
END:STANDARD
BEGIN:DAYLIGHT
TZOFFSETFROM:-0500
TZOFFSETTO:-0400
TZNAME:EDT
DTSTART:20240310T070000
END:DAYLIGHT
BEGIN:STANDARD
TZOFFSETFROM:-0400
TZOFFSETTO:-0500
TZNAME:EST
DTSTART:20241103T060000
END:STANDARD
END:VTIMEZONE
BEGIN:VEVENT
DTSTART;TZID=America/New_York:20230611T070000
DTEND;TZID=America/New_York:20230617T120000
DTSTAMP:20260420T044744
CREATED:20220620T125506Z
LAST-MODIFIED:20220620T125506Z
UID:3725-1686466800-1687003200@www.mountaineerboysstate.org
SUMMARY:84th American Legion Mountaineer Boys State
DESCRIPTION:
URL:https://www.mountaineerboysstate.org/event/83rd-american-legion-mountaineer-boys-state-2/
LOCATION:WVU Jackson’s Mill\, 160 WVU Jackson Mill\, Weston\, WV\, 26452\, United States
CATEGORIES:ALMBS
ATTACH;FMTTYPE=image/png:https://www.mountaineerboysstate.org/wp-content/uploads/2019/05/GeneralLogo.png
ORGANIZER;CN="The American Legion Department of West Virginia":MAILTO:almbs@wvboysstate.org
END:VEVENT
BEGIN:VEVENT
DTSTART;TZID=America/New_York:20230616T081500
DTEND;TZID=America/New_York:20230616T083000
DTSTAMP:20260420T044744
CREATED:20230609T211808Z
LAST-MODIFIED:20230609T211808Z
UID:4265-1686903300-1686904200@www.mountaineerboysstate.org
SUMMARY:ALMBS Live - Breakfast Speaker
DESCRIPTION:
URL:https://www.mountaineerboysstate.org/event/almbs-live-breakfast-speaker-6/
LOCATION:WVU Jackson’s Mill\, 160 WVU Jackson Mill\, Weston\, WV\, 26452\, United States
CATEGORIES:ALMBS
ATTACH;FMTTYPE=image/png:https://www.mountaineerboysstate.org/wp-content/uploads/2022/04/LiveEventLogo-1024x458.fw_.png
ORGANIZER;CN="The American Legion Department of West Virginia":MAILTO:almbs@wvboysstate.org
END:VEVENT
BEGIN:VEVENT
DTSTART;TZID=America/New_York:20230616T124500
DTEND;TZID=America/New_York:20230616T131500
DTSTAMP:20260420T044744
CREATED:20230607T031125Z
LAST-MODIFIED:20230607T031125Z
UID:4240-1686919500-1686921300@www.mountaineerboysstate.org
SUMMARY:ALMBS Live - Lunch Speaker
DESCRIPTION:
URL:https://www.mountaineerboysstate.org/event/almbs-live-lunch-speaker-6/
LOCATION:WVU Jackson’s Mill\, 160 WVU Jackson Mill\, Weston\, WV\, 26452\, United States
CATEGORIES:ALMBS
ATTACH;FMTTYPE=image/png:https://www.mountaineerboysstate.org/wp-content/uploads/2022/04/LiveEventLogo-1024x458.fw_.png
ORGANIZER;CN="The American Legion Department of West Virginia":MAILTO:almbs@wvboysstate.org
END:VEVENT
BEGIN:VEVENT
DTSTART;TZID=America/New_York:20230616T200000
DTEND;TZID=America/New_York:20230616T230000
DTSTAMP:20260420T044744
CREATED:20230607T031240Z
LAST-MODIFIED:20230607T031240Z
UID:4242-1686945600-1686956400@www.mountaineerboysstate.org
SUMMARY:ALMBS Live - West Fork River Revue
DESCRIPTION:
URL:https://www.mountaineerboysstate.org/event/almbs-live-west-fork-river-revue/
LOCATION:WVU Jackson’s Mill\, 160 WVU Jackson Mill\, Weston\, WV\, 26452\, United States
CATEGORIES:ALMBS
ATTACH;FMTTYPE=image/png:https://www.mountaineerboysstate.org/wp-content/uploads/2022/04/LiveEventLogo-1024x458.fw_.png
ORGANIZER;CN="The American Legion Department of West Virginia":MAILTO:almbs@wvboysstate.org
END:VEVENT
END:VCALENDAR