BEGIN:VCALENDAR
VERSION:2.0
PRODID:-//The American Legion Mountaineer Boys State - ECPv6.15.20//NONSGML v1.0//EN
CALSCALE:GREGORIAN
METHOD:PUBLISH
X-ORIGINAL-URL:https://www.mountaineerboysstate.org
X-WR-CALDESC:Events for The American Legion Mountaineer Boys State
REFRESH-INTERVAL;VALUE=DURATION:PT1H
X-Robots-Tag:noindex
X-PUBLISHED-TTL:PT1H
BEGIN:VTIMEZONE
TZID:America/New_York
BEGIN:DAYLIGHT
TZOFFSETFROM:-0500
TZOFFSETTO:-0400
TZNAME:EDT
DTSTART:20220313T070000
END:DAYLIGHT
BEGIN:STANDARD
TZOFFSETFROM:-0400
TZOFFSETTO:-0500
TZNAME:EST
DTSTART:20221106T060000
END:STANDARD
BEGIN:DAYLIGHT
TZOFFSETFROM:-0500
TZOFFSETTO:-0400
TZNAME:EDT
DTSTART:20230312T070000
END:DAYLIGHT
BEGIN:STANDARD
TZOFFSETFROM:-0400
TZOFFSETTO:-0500
TZNAME:EST
DTSTART:20231105T060000
END:STANDARD
BEGIN:DAYLIGHT
TZOFFSETFROM:-0500
TZOFFSETTO:-0400
TZNAME:EDT
DTSTART:20240310T070000
END:DAYLIGHT
BEGIN:STANDARD
TZOFFSETFROM:-0400
TZOFFSETTO:-0500
TZNAME:EST
DTSTART:20241103T060000
END:STANDARD
END:VTIMEZONE
BEGIN:VEVENT
DTSTART;TZID=America/New_York:20230611T070000
DTEND;TZID=America/New_York:20230617T120000
DTSTAMP:20260420T060834
CREATED:20220620T125506Z
LAST-MODIFIED:20220620T125506Z
UID:3725-1686466800-1687003200@www.mountaineerboysstate.org
SUMMARY:84th American Legion Mountaineer Boys State
DESCRIPTION:
URL:https://www.mountaineerboysstate.org/event/83rd-american-legion-mountaineer-boys-state-2/
LOCATION:WVU Jackson’s Mill\, 160 WVU Jackson Mill\, Weston\, WV\, 26452\, United States
CATEGORIES:ALMBS
ATTACH;FMTTYPE=image/png:https://www.mountaineerboysstate.org/wp-content/uploads/2019/05/GeneralLogo.png
ORGANIZER;CN="The American Legion Department of West Virginia":MAILTO:almbs@wvboysstate.org
END:VEVENT
BEGIN:VEVENT
DTSTART;TZID=America/New_York:20230614T081500
DTEND;TZID=America/New_York:20230614T084500
DTSTAMP:20260420T060834
CREATED:20230607T025908Z
LAST-MODIFIED:20230607T031824Z
UID:4223-1686730500-1686732300@www.mountaineerboysstate.org
SUMMARY:ALMBS Live - Breakfast Speaker
DESCRIPTION:
URL:https://www.mountaineerboysstate.org/event/almbs-live-breakfast-speaker-5/
LOCATION:WVU Jackson’s Mill\, 160 WVU Jackson Mill\, Weston\, WV\, 26452\, United States
CATEGORIES:ALMBS
ATTACH;FMTTYPE=image/png:https://www.mountaineerboysstate.org/wp-content/uploads/2022/04/LiveEventLogo-1024x458.fw_.png
ORGANIZER;CN="The American Legion Department of West Virginia":MAILTO:almbs@wvboysstate.org
END:VEVENT
BEGIN:VEVENT
DTSTART;TZID=America/New_York:20230614T124500
DTEND;TZID=America/New_York:20230614T131500
DTSTAMP:20260420T060834
CREATED:20230607T030022Z
LAST-MODIFIED:20230607T031753Z
UID:4225-1686746700-1686748500@www.mountaineerboysstate.org
SUMMARY:ALMBS Live - Lunch Speaker
DESCRIPTION:
URL:https://www.mountaineerboysstate.org/event/almbs-live-lunch-speaker-5/
LOCATION:WVU Jackson’s Mill\, 160 WVU Jackson Mill\, Weston\, WV\, 26452\, United States
CATEGORIES:ALMBS
ATTACH;FMTTYPE=image/png:https://www.mountaineerboysstate.org/wp-content/uploads/2022/04/LiveEventLogo-1024x458.fw_.png
ORGANIZER;CN="The American Legion Department of West Virginia":MAILTO:almbs@wvboysstate.org
END:VEVENT
BEGIN:VEVENT
DTSTART;TZID=America/New_York:20230614T163000
DTEND;TZID=America/New_York:20230614T170000
DTSTAMP:20260420T060834
CREATED:20230607T030138Z
LAST-MODIFIED:20230607T031623Z
UID:4227-1686760200-1686762000@www.mountaineerboysstate.org
SUMMARY:ALMBS Live - Inauguration
DESCRIPTION:
URL:https://www.mountaineerboysstate.org/event/almbs-live-inauguration-2/
LOCATION:WVU Jackson’s Mill\, 160 WVU Jackson Mill\, Weston\, WV\, 26452\, United States
CATEGORIES:ALMBS
ATTACH;FMTTYPE=image/png:https://www.mountaineerboysstate.org/wp-content/uploads/2022/04/LiveEventLogo-1024x458.fw_.png
ORGANIZER;CN="The American Legion Department of West Virginia":MAILTO:almbs@wvboysstate.org
END:VEVENT
BEGIN:VEVENT
DTSTART;TZID=America/New_York:20230614T183000
DTEND;TZID=America/New_York:20230614T191500
DTSTAMP:20260420T060834
CREATED:20230607T030313Z
LAST-MODIFIED:20230607T031546Z
UID:4229-1686767400-1686770100@www.mountaineerboysstate.org
SUMMARY:ALMBS Live - Formal Review
DESCRIPTION:
URL:https://www.mountaineerboysstate.org/event/almbs-live-formal-review-2/
LOCATION:WVU Jackson’s Mill\, 160 WVU Jackson Mill\, Weston\, WV\, 26452\, United States
CATEGORIES:ALMBS
ATTACH;FMTTYPE=image/png:https://www.mountaineerboysstate.org/wp-content/uploads/2022/04/LiveEventLogo-1024x458.fw_.png
ORGANIZER;CN="The American Legion Department of West Virginia":MAILTO:almbs@wvboysstate.org
END:VEVENT
END:VCALENDAR